BEGIN:VCALENDAR
VERSION:2.0
PRODID:-//jEvents 2.0 for Joomla//EN
CALSCALE:GREGORIAN
METHOD:PUBLISH
BEGIN:VTIMEZONE
TZID:Europe/Berlin
END:VTIMEZONE
BEGIN:VEVENT
UID:adea1aa9c51211471d2cdbc064e1c04c
CATEGORIES:Veranstaltungen
CREATED:20250205T191059
SUMMARY:Waiting Room Jazzband > Gute Laune Musik
DESCRIPTION:
DTSTAMP:20260421T130637
DTSTART;TZID=Europe/Berlin:20250809T180000
SEQUENCE:0
TRANSP:OPAQUE
END:VEVENT
END:VCALENDAR