BEGIN:VCALENDAR
VERSION:2.0
PRODID:-//jEvents 2.0 for Joomla//EN
CALSCALE:GREGORIAN
METHOD:PUBLISH
BEGIN:VTIMEZONE
TZID:Europe/Berlin
END:VTIMEZONE
BEGIN:VEVENT
UID:3ffce0e022034e7925cdaf9426583d35
CATEGORIES:Veranstaltungen
CREATED:20250205T190838
SUMMARY:Bawelino & Brunner > Gypsy-Swing
DESCRIPTION:
DTSTAMP:20260421T141233
DTSTART;TZID=Europe/Berlin:20250515T193000
SEQUENCE:0
TRANSP:OPAQUE
END:VEVENT
END:VCALENDAR