BEGIN:VCALENDAR
VERSION:2.0
PRODID:-//jEvents 2.0 for Joomla//EN
CALSCALE:GREGORIAN
METHOD:PUBLISH
BEGIN:VTIMEZONE
TZID:Europe/Berlin
END:VTIMEZONE
BEGIN:VEVENT
UID:4c6d9b06a44681b4544917c1b7d93de3
CATEGORIES:Veranstaltungen
CREATED:20250205T190618
SUMMARY:The Big Five > Swing aus Berlin
DESCRIPTION:
DTSTAMP:20260421T142114
DTSTART;TZID=Europe/Berlin:20250328T193000
SEQUENCE:0
TRANSP:OPAQUE
END:VEVENT
END:VCALENDAR