BEGIN:VCALENDAR
VERSION:2.0
PRODID:-//jEvents 2.0 for Joomla//EN
CALSCALE:GREGORIAN
METHOD:PUBLISH
BEGIN:VTIMEZONE
TZID:Europe/Berlin
END:VTIMEZONE
BEGIN:VEVENT
UID:e890b2ee1d9cac46674659dc4a4a6aa4
CATEGORIES:Veranstaltungen
CREATED:20250205T190052
SUMMARY:Bayou Alligators
DESCRIPTION:
DTSTAMP:20260421T141221
DTSTART;TZID=Europe/Berlin:20250314T193000
SEQUENCE:0
TRANSP:OPAQUE
END:VEVENT
END:VCALENDAR