BEGIN:VCALENDAR
VERSION:2.0
PRODID:-//jEvents 2.0 for Joomla//EN
CALSCALE:GREGORIAN
METHOD:PUBLISH
BEGIN:VTIMEZONE
TZID:Europe/Berlin
END:VTIMEZONE
BEGIN:VEVENT
UID:1187dd7fec5c38be7554c978566d9167
CATEGORIES:Veranstaltungen
CREATED:20250205T191834
SUMMARY:Jakkle > True Spagetti-Swing
DESCRIPTION:
DTSTAMP:20260421T130637
DTSTART;TZID=Europe/Berlin:20251228T193000
SEQUENCE:0
TRANSP:OPAQUE
END:VEVENT
END:VCALENDAR