BEGIN:VCALENDAR
VERSION:2.0
PRODID:-//jEvents 2.0 for Joomla//EN
CALSCALE:GREGORIAN
METHOD:PUBLISH
BEGIN:VTIMEZONE
TZID:Europe/Berlin
END:VTIMEZONE
BEGIN:VEVENT
UID:6f1321b1dc1d71df1c6eee15cf0e6216
CATEGORIES:Veranstaltungen
CREATED:20250205T191643
SUMMARY:The Toughest Tenors > Jazz aus Berlin
DESCRIPTION:
DTSTAMP:20260421T141254
DTSTART;TZID=Europe/Berlin:20251024T193000
SEQUENCE:0
TRANSP:OPAQUE
END:VEVENT
END:VCALENDAR